BEGIN:VCALENDAR
VERSION:2.0
PRODID:-//ZContent.net//ZapCalLib 1.0//EN
CALSCALE:GREGORIAN
METHOD:PUBLISH
BEGIN:VEVENT
SUMMARY:Dyskusja i pytania
DTSTART:20251215T194500
DTEND:20251215T205000
UID:Dyskusja i pytania56643_1776713859
DTSTAMP:20260420T193739
Description:
END:VEVENT
END:VCALENDAR
