BEGIN:VCALENDAR
VERSION:2.0
PRODID:-//ZContent.net//ZapCalLib 1.0//EN
CALSCALE:GREGORIAN
METHOD:PUBLISH
BEGIN:VEVENT
SUMMARY:Prezentacja przypadku sponsorowana przez firmę AstraZeneca:<br />\
 nOpis przypadku pacjenta leczonego kapiwasertybem
DTSTART:20251215T181500
DTEND:20251215T192000
UID:Prezentacja przypadku sponsorowana przez firmę AstraZeneca:<br />\nOpi
 s przypadku pacjenta leczonego kapiwasertybem56640_1776713998
DTSTAMP:20260420T193958
Description:
END:VEVENT
END:VCALENDAR
