BEGIN:VCALENDAR
VERSION:2.0
PRODID:-//ZContent.net//ZapCalLib 1.0//EN
CALSCALE:GREGORIAN
METHOD:PUBLISH
BEGIN:VEVENT
SUMMARY:Dyskusja i pytania
DTSTART:20251215T170500
DTEND:20251215T181000
UID:Dyskusja i pytania56639_1776714213
DTSTAMP:20260420T194333
Description:
END:VEVENT
END:VCALENDAR
