BEGIN:VCALENDAR
VERSION:2.0
PRODID:-//ZContent.net//ZapCalLib 1.0//EN
CALSCALE:GREGORIAN
METHOD:PUBLISH
BEGIN:VEVENT
SUMMARY:Podsumowanie
DTSTART:20251215T195000
DTEND:20251215T210000
UID:Podsumowanie56126_1776714139
DTSTAMP:20260420T194219
Description:
END:VEVENT
END:VCALENDAR
