BEGIN:VCALENDAR
VERSION:2.0
PRODID:-//ZContent.net//ZapCalLib 1.0//EN
CALSCALE:GREGORIAN
METHOD:PUBLISH
BEGIN:VEVENT
SUMMARY:<strong>Czerniak </strong>
DTSTART:20251215T193000
DTEND:20251215T204500
UID:<strong>Czerniak </strong>56124_1776713905
DTSTAMP:20260420T193825
Description:
END:VEVENT
END:VCALENDAR
