BEGIN:VCALENDAR
VERSION:2.0
PRODID:-//ZContent.net//ZapCalLib 1.0//EN
CALSCALE:GREGORIAN
METHOD:PUBLISH
BEGIN:VEVENT
SUMMARY:Dyskusja i pytania
DTSTART:20251215T190500
DTEND:20251215T201000
UID:Dyskusja i pytania56122_1776714145
DTSTAMP:20260420T194225
Description:
END:VEVENT
END:VCALENDAR
