BEGIN:VCALENDAR
VERSION:2.0
PRODID:-//ZContent.net//ZapCalLib 1.0//EN
CALSCALE:GREGORIAN
METHOD:PUBLISH
BEGIN:VEVENT
SUMMARY:<strong>Nowotwory układu moczowo-płciowego</strong>
DTSTART:20251215T191000
DTEND:20251215T202500
UID:<strong>Nowotwory układu moczowo-płciowego</strong>56121_1776713910
DTSTAMP:20260420T193830
Description:
END:VEVENT
END:VCALENDAR
