BEGIN:VCALENDAR
VERSION:2.0
PRODID:-//ZContent.net//ZapCalLib 1.0//EN
CALSCALE:GREGORIAN
METHOD:PUBLISH
BEGIN:VEVENT
SUMMARY:Wykład pod patronatem firmy AstraZeneca:<br />\nEGFRm NDRP: optyma
 lny algorytm terapeutyczny w 2025 r.
DTSTART:20251215T165000
DTEND:20251215T180500
UID:Wykład pod patronatem firmy AstraZeneca:<br />\nEGFRm NDRP: optymalny 
 algorytm terapeutyczny w 2025 r.56118_1776714321
DTSTAMP:20260420T194521
Description:
END:VEVENT
END:VCALENDAR
