BEGIN:VCALENDAR
VERSION:2.0
PRODID:-//ZContent.net//ZapCalLib 1.0//EN
CALSCALE:GREGORIAN
METHOD:PUBLISH
BEGIN:VEVENT
SUMMARY:<strong>Rak płuca </strong>
DTSTART:20251215T163500
DTEND:20251215T175000
UID:<strong>Rak płuca </strong>56116_1776714028
DTSTAMP:20260420T194028
Description:
END:VEVENT
END:VCALENDAR
