BEGIN:VCALENDAR
VERSION:2.0
PRODID:-//ZContent.net//ZapCalLib 1.0//EN
CALSCALE:GREGORIAN
METHOD:PUBLISH
BEGIN:VEVENT
SUMMARY:<strong>Rak piersi </strong>
DTSTART:20251215T174500
DTEND:20251215T190000
UID:<strong>Rak piersi </strong>56113_1776713957
DTSTAMP:20260420T193917
Description:
END:VEVENT
END:VCALENDAR
