BEGIN:VCALENDAR
VERSION:2.0
PRODID:-//ZContent.net//ZapCalLib 1.0//EN
CALSCALE:GREGORIAN
METHOD:PUBLISH
BEGIN:VEVENT
SUMMARY:Wykład sponsorowany przez firmę AstraZeneca:<br />\nNowe możliwo
 ści terapeutyczne w HR+ przerzutowym raku piersi w 2025 r.
DTSTART:20251215T180000
DTEND:20251215T191500
UID:Wykład sponsorowany przez firmę AstraZeneca:<br />\nNowe możliwości
  terapeutyczne w HR+ przerzutowym raku piersi w 2025 r.56112_1776713904
DTSTAMP:20260420T193824
Description:
END:VEVENT
END:VCALENDAR
