BEGIN:VCALENDAR
VERSION:2.0
PRODID:-//ZContent.net//ZapCalLib 1.0//EN
CALSCALE:GREGORIAN
METHOD:PUBLISH
BEGIN:VEVENT
SUMMARY:<strong>Nowotwory ginekologiczne</strong>
DTSTART:20251215T183000
DTEND:20251215T194500
UID:<strong>Nowotwory ginekologiczne</strong>56110_1776713911
DTSTAMP:20260420T193831
Description:
END:VEVENT
END:VCALENDAR
