BEGIN:VCALENDAR
VERSION:2.0
PRODID:-//ZContent.net//ZapCalLib 1.0//EN
CALSCALE:GREGORIAN
METHOD:PUBLISH
BEGIN:VEVENT
SUMMARY:Wykład sponsorowany przez firmę Amgen:<br />\nCzy współpraca on
 kologa i geriatry ma potencjał w leczeniu nowotworów przewodu pokarmoweg
 o?
DTSTART:20251215T172500
DTEND:20251215T184000
UID:Wykład sponsorowany przez firmę Amgen:<br />\nCzy współpraca onkolo
 ga i geriatry ma potencjał w leczeniu nowotworów przewodu pokarmowego?56
 109_1776714069
DTSTAMP:20260420T194109
Description:
END:VEVENT
END:VCALENDAR
