BEGIN:VCALENDAR
VERSION:2.0
PRODID:-//ZContent.net//ZapCalLib 1.0//EN
CALSCALE:GREGORIAN
METHOD:PUBLISH
BEGIN:VEVENT
SUMMARY:<strong>Nowotwory układu pokarmowego</strong>
DTSTART:20251215T171000
DTEND:20251215T182500
UID:<strong>Nowotwory układu pokarmowego</strong>56107_1776714152
DTSTAMP:20260420T194232
Description:
END:VEVENT
END:VCALENDAR
