BEGIN:VCALENDAR
VERSION:2.0
PRODID:-//ZContent.net//ZapCalLib 1.0//EN
CALSCALE:GREGORIAN
METHOD:PUBLISH
BEGIN:VEVENT
SUMMARY:Wprowadzenie
DTSTART:20251215T163000
DTEND:20251215T173500
UID:Wprowadzenie56106_1776714218
DTSTAMP:20260420T194338
Description:
END:VEVENT
END:VCALENDAR
